0.150
0.000
-0.000
-0.150
398600.000
96450.000
