0.150
0.000
-0.000
-0.150
399500.000
96350.000
