0.150
0.000
-0.000
-0.150
400400.000
96250.000
