0.150
0.000
-0.000
-0.150
401300.000
96150.000
