0.150
0.000
-0.000
-0.150
402200.000
95950.000
