0.150
0.000
-0.000
-0.150
403100.000
95750.000
