0.150
0.000
-0.000
-0.150
404000.000
95550.000
