0.150
0.000
-0.000
-0.150
404900.000
95450.000
