0.150
0.000
-0.000
-0.150
405800.000
95350.000
